BEGIN:VCALENDAR
VERSION:2.0
PRODID:SchoolNow
CALSCALE:GREGORIAN
BEGIN:VEVENT
UID:63a11764-02c6-11ec-87ce-02e275fc532b
DTSTAMP:20210821T212603Z
SUMMARY:Story Time
LOCATION:Nature Center
URL;VALUE=URI:https://www.wildernesslakecdd.org/calendar/2683661/story-time
DTSTART:20211129T150000Z
DTEND:20211129T160000Z
END:VEVENT
END:VCALENDAR
