BEGIN:VCALENDAR
VERSION:2.0
PRODID:SchoolNow
CALSCALE:GREGORIAN
BEGIN:VEVENT
UID:4d2879e6-02c6-11ec-971c-02e275fc532b
DTSTAMP:20210821T212526Z
SUMMARY:Lodge Holiday Hours
URL;VALUE=URI:https://www.wildernesslakecdd.org/calendar/2683660/lodge-holi
 day-hours
DTSTART:20211126T170000Z
DTEND:20211127T020000Z
END:VEVENT
END:VCALENDAR
