BEGIN:VCALENDAR
VERSION:2.0
PRODID:SchoolNow
CALSCALE:GREGORIAN
BEGIN:VEVENT
UID:86292b0a-02c1-11ec-b43d-02e275fc532b
DTSTAMP:20210821T205114Z
SUMMARY:Lodge Holiday Hours - Closed
URL;VALUE=URI:https://www.wildernesslakecdd.org/calendar/2683657/lodge-holi
 day-hours-closed
DTSTART;VALUE=DATE:20211125
DTEND;VALUE=DATE:20211126
END:VEVENT
END:VCALENDAR
