BEGIN:VCALENDAR
VERSION:2.0
PRODID:SchoolNow
CALSCALE:GREGORIAN
BEGIN:VEVENT
UID:36c61ece-02c1-11ec-ab99-02e275fc532b
DTSTAMP:20210821T204901Z
SUMMARY:Lodge Holiday Hours
URL;VALUE=URI:https://www.wildernesslakecdd.org/calendar/2683656/lodge-holi
 day-hours
DTSTART:20211124T140000Z
DTEND:20211124T200000Z
END:VEVENT
END:VCALENDAR
