BEGIN:VCALENDAR
VERSION:2.0
PRODID:SchoolNow
CALSCALE:GREGORIAN
BEGIN:VEVENT
UID:162a4dd4-02c1-11ec-a450-02e275fc532b
DTSTAMP:20210821T204806Z
SUMMARY:HOA Meeting
LOCATION:Activities Center
URL;VALUE=URI:https://www.wildernesslakecdd.org/calendar/2683655/hoa-meetin
 g
DTSTART:20211123T233000Z
DTEND:20211124T020000Z
END:VEVENT
END:VCALENDAR
