BEGIN:VCALENDAR
VERSION:2.0
PRODID:SchoolNow
CALSCALE:GREGORIAN
BEGIN:VEVENT
UID:d6dce498-02c0-11ec-9554-02e275fc532b
DTSTAMP:20210821T204620Z
SUMMARY:ARC Meeting
LOCATION:Activities Center
URL;VALUE=URI:https://www.wildernesslakecdd.org/calendar/2683654/arc-meetin
 g
DTSTART:20211122T233000Z
DTEND:20211123T010000Z
END:VEVENT
END:VCALENDAR
