BEGIN:VCALENDAR
VERSION:2.0
PRODID:SchoolNow
CALSCALE:GREGORIAN
BEGIN:VEVENT
UID:a490e9d0-02c0-11ec-877e-02e275fc532b
DTSTAMP:20210821T204455Z
SUMMARY:Movie Night
LOCATION:Theatre
URL;VALUE=URI:https://www.wildernesslakecdd.org/calendar/2683653/movie-nigh
 t
DTSTART:20211122T230000Z
DTEND:20211123T010000Z
END:VEVENT
END:VCALENDAR
