BEGIN:VCALENDAR
VERSION:2.0
PRODID:SchoolNow
CALSCALE:GREGORIAN
BEGIN:VEVENT
UID:8aa85742-02c0-11ec-b7a8-02e275fc532b
DTSTAMP:20210821T204412Z
SUMMARY:Story Time
LOCATION:Nature Center
URL;VALUE=URI:https://www.wildernesslakecdd.org/calendar/2683652/story-time
DTSTART:20211122T150000Z
DTEND:20211122T160000Z
END:VEVENT
END:VCALENDAR
