BEGIN:VCALENDAR
VERSION:2.0
PRODID:SchoolNow
CALSCALE:GREGORIAN
BEGIN:VEVENT
UID:51e98de0-02c0-11ec-a895-02e275fc532b
DTSTAMP:20210821T204237Z
SUMMARY:Art Class
LOCATION:Activties Center
URL;VALUE=URI:https://www.wildernesslakecdd.org/calendar/2683651/art-class
DTSTART:20211120T170000Z
DTEND:20211120T200000Z
END:VEVENT
END:VCALENDAR
