BEGIN:VCALENDAR
VERSION:2.0
PRODID:SchoolNow
CALSCALE:GREGORIAN
BEGIN:VEVENT
UID:31ddcbf6-02c0-11ec-8a0b-02e275fc532b
DTSTAMP:20211107T175134Z
SUMMARY:Bunco
LOCATION:Activities Center
URL;VALUE=URI:https://www.wildernesslakecdd.org/calendar/2683650/bunco
DTSTART:20211117T000000Z
DTEND:20211117T020000Z
END:VEVENT
END:VCALENDAR
