BEGIN:VCALENDAR
VERSION:2.0
PRODID:SchoolNow
CALSCALE:GREGORIAN
BEGIN:VEVENT
UID:15b1bef2-02bf-11ec-8075-0ab34f6fc819
DTSTAMP:20210821T203346Z
SUMMARY:Movie Night
LOCATION:Theatre
URL;VALUE=URI:https://www.wildernesslakecdd.org/calendar/2683649/movie-nigh
 t
DTSTART:20211115T230000Z
DTEND:20211116T010000Z
END:VEVENT
END:VCALENDAR
