BEGIN:VCALENDAR
VERSION:2.0
PRODID:SchoolNow
CALSCALE:GREGORIAN
BEGIN:VEVENT
UID:a5323932-02bd-11ec-9b33-0ea245c3b317
DTSTAMP:20210821T202328Z
SUMMARY:Story Time
LOCATION:Nature Center
URL;VALUE=URI:https://www.wildernesslakecdd.org/calendar/2683648/story-time
DTSTART:20211115T150000Z
DTEND:20211115T160000Z
END:VEVENT
END:VCALENDAR
