BEGIN:VCALENDAR
VERSION:2.0
PRODID:SchoolNow
CALSCALE:GREGORIAN
BEGIN:VEVENT
UID:ed6514b0-02bb-11ec-8ade-0a46ef33d967
DTSTAMP:20210821T201110Z
SUMMARY:Chat'hers Caring & Sharing Feast
LOCATION:Actitivities Center
URL;VALUE=URI:https://www.wildernesslakecdd.org/calendar/2683647/chathers-c
 aring-sharing-feast
DTSTART:20211114T220000Z
DTEND:20211115T010000Z
END:VEVENT
END:VCALENDAR
