BEGIN:VCALENDAR
VERSION:2.0
PRODID:SchoolNow
CALSCALE:GREGORIAN
BEGIN:VEVENT
UID:b53eca86-02bb-11ec-b2fc-0a46ef33d967
DTSTAMP:20211107T175041Z
SUMMARY:Fall Art & Craft Show
LOCATION:Lodge\, Activities Center & Nature Center
URL;VALUE=URI:https://www.wildernesslakecdd.org/calendar/2683646/fall-art-c
 raft-show
DTSTART:20211113T150000Z
DTEND:20211113T200000Z
END:VEVENT
END:VCALENDAR
