BEGIN:VCALENDAR
VERSION:2.0
PRODID:SchoolNow
CALSCALE:GREGORIAN
BEGIN:VEVENT
UID:6bb931da-02bb-11ec-b5a5-0a46ef33d967
DTSTAMP:20211107T174508Z
SUMMARY:Movie Night
LOCATION:Theatre
URL;VALUE=URI:https://www.wildernesslakecdd.org/calendar/2683645/movie-nigh
 t
DTSTART:20211108T230000Z
DTEND:20211109T010000Z
END:VEVENT
END:VCALENDAR
