BEGIN:VCALENDAR
VERSION:2.0
PRODID:SchoolNow
CALSCALE:GREGORIAN
BEGIN:VEVENT
UID:4c99d7f0-02bb-11ec-8220-0a46ef33d967
DTSTAMP:20210821T200640Z
SUMMARY:ARC Meeting
LOCATION:Activities Center
URL;VALUE=URI:https://www.wildernesslakecdd.org/calendar/2683644/arc-meetin
 g
DTSTART:20211108T233000Z
DTEND:20211109T010000Z
END:VEVENT
END:VCALENDAR
