BEGIN:VCALENDAR
VERSION:2.0
PRODID:SchoolNow
CALSCALE:GREGORIAN
BEGIN:VEVENT
UID:0a6d4dd0-02bb-11ec-b75e-0a46ef33d967
DTSTAMP:20211107T174404Z
SUMMARY:Story Time
LOCATION:Nature Center
URL;VALUE=URI:https://www.wildernesslakecdd.org/calendar/2683643/story-time
DTSTART:20211108T150000Z
DTEND:20211108T160000Z
END:VEVENT
END:VCALENDAR
