BEGIN:VCALENDAR
VERSION:2.0
PRODID:SchoolNow
CALSCALE:GREGORIAN
BEGIN:VEVENT
UID:d37a8b9e-02ba-11ec-9ea1-0a46ef33d967
DTSTAMP:20210821T200317Z
SUMMARY:Movie Night
LOCATION:Theatre
URL;VALUE=URI:https://www.wildernesslakecdd.org/calendar/2683642/movie-nigh
 t
DTSTART:20211101T220000Z
DTEND:20211102T000000Z
END:VEVENT
END:VCALENDAR
