BEGIN:VCALENDAR
VERSION:2.0
PRODID:SchoolNow
CALSCALE:GREGORIAN
BEGIN:VEVENT
UID:b8789eee-02ba-11ec-932a-0a75e261f707
DTSTAMP:20210821T200232Z
SUMMARY:Story Time
LOCATION:Nature Center
URL;VALUE=URI:https://www.wildernesslakecdd.org/calendar/2683641/story-time
DTSTART:20211101T140000Z
DTEND:20211101T150000Z
END:VEVENT
END:VCALENDAR
