BEGIN:VCALENDAR
VERSION:2.0
PRODID:SchoolNow
CALSCALE:GREGORIAN
BEGIN:VEVENT
UID:5c91ad9c-02b9-11ec-b859-02e5eda6e069
DTSTAMP:20210821T195248Z
SUMMARY:Kid's Costume and Puppy Parade
LOCATION:Lodge
URL;VALUE=URI:https://www.wildernesslakecdd.org/calendar/2683640/kids-costu
 me-and-puppy-parade
DTSTART:20211031T213000Z
DTEND:20211031T223000Z
END:VEVENT
END:VCALENDAR
