BEGIN:VCALENDAR
VERSION:2.0
PRODID:SchoolNow
CALSCALE:GREGORIAN
BEGIN:VEVENT
UID:38ee1830-02b9-11ec-9596-02e5eda6e069
DTSTAMP:20210821T195148Z
SUMMARY:Haunted House
LOCATION:Nature Center
URL;VALUE=URI:https://www.wildernesslakecdd.org/calendar/2683639/haunted-ho
 use
DTSTART:20211030T230000Z
DTEND:20211031T010000Z
END:VEVENT
END:VCALENDAR
