BEGIN:VCALENDAR
VERSION:2.0
PRODID:SchoolNow
CALSCALE:GREGORIAN
BEGIN:VEVENT
UID:1abfee10-02b9-11ec-b411-02e5eda6e069
DTSTAMP:20210821T195058Z
SUMMARY:Kid Friendly Haunted House
LOCATION:Nature Center
URL;VALUE=URI:https://www.wildernesslakecdd.org/calendar/2683638/kid-friend
 ly-haunted-house
DTSTART:20211030T210000Z
DTEND:20211030T220000Z
END:VEVENT
END:VCALENDAR
