BEGIN:VCALENDAR
VERSION:2.0
PRODID:SchoolNow
CALSCALE:GREGORIAN
BEGIN:VEVENT
UID:aa9bd4b6-02b6-11ec-bf32-02e275fc532b
DTSTAMP:20210821T193331Z
SUMMARY:Haunted House
LOCATION:Nature Center
URL;VALUE=URI:https://www.wildernesslakecdd.org/calendar/2683637/haunted-ho
 use
DTSTART:20211029T230000Z
DTEND:20211030T003000Z
END:VEVENT
END:VCALENDAR
