BEGIN:VCALENDAR
VERSION:2.0
PRODID:SchoolNow
CALSCALE:GREGORIAN
BEGIN:VEVENT
UID:0dd1e53a-02b6-11ec-bd82-022547f589a1
DTSTAMP:20210821T192908Z
SUMMARY:HOA Meeting
LOCATION:Activities Center
URL;VALUE=URI:https://www.wildernesslakecdd.org/calendar/2683636/hoa-meetin
 g
DTSTART:20211026T223000Z
DTEND:20211027T010000Z
END:VEVENT
END:VCALENDAR
