BEGIN:VCALENDAR
VERSION:2.0
PRODID:SchoolNow
CALSCALE:GREGORIAN
BEGIN:VEVENT
UID:f3385042-02b5-11ec-a135-022547f589a1
DTSTAMP:20210821T192823Z
SUMMARY:ARC Meeting
LOCATION:Activities Center
URL;VALUE=URI:https://www.wildernesslakecdd.org/calendar/2683635/arc-meetin
 g
DTSTART:20211025T223000Z
DTEND:20211026T000000Z
END:VEVENT
END:VCALENDAR
