BEGIN:VCALENDAR
VERSION:2.0
PRODID:SchoolNow
CALSCALE:GREGORIAN
BEGIN:VEVENT
UID:d5964c10-02b5-11ec-9093-022547f589a1
DTSTAMP:20210821T192733Z
SUMMARY:Movie Night
LOCATION:Theatre
URL;VALUE=URI:https://www.wildernesslakecdd.org/calendar/2683634/movie-nigh
 t
DTSTART:20210823T220000Z
DTEND:20210824T000000Z
END:VEVENT
END:VCALENDAR
