BEGIN:VCALENDAR
VERSION:2.0
PRODID:SchoolNow
CALSCALE:GREGORIAN
BEGIN:VEVENT
UID:c1107590-02b5-11ec-9f99-022547f589a1
DTSTAMP:20210821T192659Z
SUMMARY:Story Time
LOCATION:Nature Center
URL;VALUE=URI:https://www.wildernesslakecdd.org/calendar/2683633/story-time
DTSTART:20211025T140000Z
DTEND:20211025T150000Z
END:VEVENT
END:VCALENDAR
