BEGIN:VCALENDAR
VERSION:2.0
PRODID:SchoolNow
CALSCALE:GREGORIAN
BEGIN:VEVENT
UID:a0737d28-02b5-11ec-a6d5-022547f589a1
DTSTAMP:20210821T192604Z
SUMMARY:Hot Off The Press
LOCATION:Lodge Parking Lot
URL;VALUE=URI:https://www.wildernesslakecdd.org/calendar/2683632/hot-off-th
 e-press
DTSTART:20211023T200000Z
DTEND:20211024T000000Z
END:VEVENT
END:VCALENDAR
