BEGIN:VCALENDAR
VERSION:2.0
PRODID:SchoolNow
CALSCALE:GREGORIAN
BEGIN:VEVENT
UID:72006a50-02b5-11ec-ba93-022547f589a1
DTSTAMP:20210821T192446Z
SUMMARY:Bunco
LOCATION:Activites Center
URL;VALUE=URI:https://www.wildernesslakecdd.org/calendar/2683631/bunco
DTSTART:20211019T230000Z
DTEND:20211020T010000Z
END:VEVENT
END:VCALENDAR
