BEGIN:VCALENDAR
VERSION:2.0
PRODID:SchoolNow
CALSCALE:GREGORIAN
BEGIN:VEVENT
UID:58563792-02b5-11ec-aec4-022547f589a1
DTSTAMP:20210821T192403Z
SUMMARY:Movie Night
LOCATION:Theatre
URL;VALUE=URI:https://www.wildernesslakecdd.org/calendar/2683629/movie-nigh
 t
DTSTART:20211018T220000Z
DTEND:20211019T000000Z
END:VEVENT
END:VCALENDAR
