BEGIN:VCALENDAR
VERSION:2.0
PRODID:SchoolNow
CALSCALE:GREGORIAN
BEGIN:VEVENT
UID:3f2c78a8-02b5-11ec-b78d-022547f589a1
DTSTAMP:20210821T192321Z
SUMMARY:Story Time
LOCATION:Nature Center
URL;VALUE=URI:https://www.wildernesslakecdd.org/calendar/2683628/story-time
DTSTART:20211018T140000Z
DTEND:20211018T150000Z
END:VEVENT
END:VCALENDAR
