BEGIN:VCALENDAR
VERSION:2.0
PRODID:SchoolNow
CALSCALE:GREGORIAN
BEGIN:VEVENT
UID:d9c46b38-02b4-11ec-91d5-022547f589a1
DTSTAMP:20210821T192031Z
SUMMARY:Art Class
LOCATION:Activites Center
URL;VALUE=URI:https://www.wildernesslakecdd.org/calendar/2683627/art-class
DTSTART:20211016T160000Z
DTEND:20211016T190000Z
END:VEVENT
END:VCALENDAR
