BEGIN:VCALENDAR
VERSION:2.0
PRODID:SchoolNow
CALSCALE:GREGORIAN
BEGIN:VEVENT
UID:b2b13616-02b4-11ec-b805-022547f589a1
DTSTAMP:20210821T191925Z
SUMMARY:Community Garage Sale
URL;VALUE=URI:https://www.wildernesslakecdd.org/calendar/2683626/community-
 garage-sale
DTSTART:20211016T120000Z
DTEND:20211016T180000Z
END:VEVENT
END:VCALENDAR
