BEGIN:VCALENDAR
VERSION:2.0
PRODID:SchoolNow
CALSCALE:GREGORIAN
BEGIN:VEVENT
UID:95083fc4-02b4-11ec-8f2c-022547f589a1
DTSTAMP:20210821T191835Z
SUMMARY:Chat'hers Tea
LOCATION:Activities Center
URL;VALUE=URI:https://www.wildernesslakecdd.org/calendar/2683625/chathers-t
 ea
DTSTART:20211014T160000Z
DTEND:20211014T190000Z
END:VEVENT
END:VCALENDAR
