BEGIN:VCALENDAR
VERSION:2.0
PRODID:SchoolNow
CALSCALE:GREGORIAN
BEGIN:VEVENT
UID:64ca3ba0-02b4-11ec-b29e-022547f589a1
DTSTAMP:20210821T191714Z
SUMMARY:ARC Meeting
LOCATION:Theatre
URL;VALUE=URI:https://www.wildernesslakecdd.org/calendar/2683624/arc-meetin
 g
DTSTART:20211011T223000Z
DTEND:20211012T000000Z
END:VEVENT
END:VCALENDAR
