BEGIN:VCALENDAR
VERSION:2.0
PRODID:SchoolNow
CALSCALE:GREGORIAN
BEGIN:VEVENT
UID:3ff5f620-02b4-11ec-97a1-022547f589a1
DTSTAMP:20210821T191613Z
SUMMARY:Movie Night
LOCATION:Theatre
URL;VALUE=URI:https://www.wildernesslakecdd.org/calendar/2683623/movie-nigh
 t
DTSTART:20211011T220000Z
DTEND:20211012T000000Z
END:VEVENT
END:VCALENDAR
