BEGIN:VCALENDAR
VERSION:2.0
PRODID:SchoolNow
CALSCALE:GREGORIAN
BEGIN:VEVENT
UID:27e13fb8-02b4-11ec-b279-022547f589a1
DTSTAMP:20210821T191532Z
SUMMARY:Story Time
LOCATION:Nature Center
URL;VALUE=URI:https://www.wildernesslakecdd.org/calendar/2683622/story-time
DTSTART:20211011T140000Z
DTEND:20211011T150000Z
END:VEVENT
END:VCALENDAR
