BEGIN:VCALENDAR
VERSION:2.0
PRODID:SchoolNow
CALSCALE:GREGORIAN
BEGIN:VEVENT
UID:0260ff44-02b4-11ec-9d2d-022547f589a1
DTSTAMP:20210821T191429Z
SUMMARY:Charm City Eats Food Truck
LOCATION:Lodge Parking Lot
URL;VALUE=URI:https://www.wildernesslakecdd.org/calendar/2683621/charm-city
 -eats-food-truck
DTSTART:20211009T180000Z
DTEND:20211009T210000Z
END:VEVENT
END:VCALENDAR
