BEGIN:VCALENDAR
VERSION:2.0
PRODID:SchoolNow
CALSCALE:GREGORIAN
BEGIN:VEVENT
UID:cd85cdd6-02b3-11ec-bfcd-022547f589a1
DTSTAMP:20210821T191325Z
SUMMARY:Fall Festival & Pumpkin Patch
LOCATION:Lodge Courtyard
URL;VALUE=URI:https://www.wildernesslakecdd.org/calendar/2683620/fall-festi
 val
DTSTART:20211009T180000Z
DTEND:20211009T210000Z
END:VEVENT
END:VCALENDAR
