BEGIN:VCALENDAR
VERSION:2.0
PRODID:SchoolNow
CALSCALE:GREGORIAN
BEGIN:VEVENT
UID:a432adbe-02b3-11ec-ba62-022547f589a1
DTSTAMP:20210821T191151Z
SUMMARY:Movie Night
LOCATION:Theatre
URL;VALUE=URI:https://www.wildernesslakecdd.org/calendar/2683619/movie-nigh
 t
DTSTART:20211004T220000Z
DTEND:20211005T000000Z
END:VEVENT
END:VCALENDAR
