BEGIN:VCALENDAR
VERSION:2.0
PRODID:SchoolNow
CALSCALE:GREGORIAN
BEGIN:VEVENT
UID:869e29cc-02b3-11ec-b66d-022547f589a1
DTSTAMP:20210821T191102Z
SUMMARY:Story Time
LOCATION:Nature Center
URL;VALUE=URI:https://www.wildernesslakecdd.org/calendar/2683618/story-time
DTSTART:20211004T140000Z
DTEND:20211004T150000Z
END:VEVENT
END:VCALENDAR
