BEGIN:VCALENDAR
VERSION:2.0
PRODID:SchoolNow
CALSCALE:GREGORIAN
BEGIN:VEVENT
UID:62aae6b8-02b3-11ec-a17b-022547f589a1
DTSTAMP:20210821T191001Z
SUMMARY:Oktoberfest
LOCATION:Activities Center
URL;VALUE=URI:https://www.wildernesslakecdd.org/calendar/2683617/oktoberfes
 t
DTSTART:20211002T223000Z
DTEND:20211003T010000Z
END:VEVENT
END:VCALENDAR
