BEGIN:VCALENDAR
VERSION:2.0
PRODID:SchoolNow
CALSCALE:GREGORIAN
BEGIN:VEVENT
UID:3eb6648a-02b3-11ec-926f-022547f589a1
DTSTAMP:20210821T190901Z
SUMMARY:Hot Off The Press Food Truck
LOCATION:Lodge Parking Lot
URL;VALUE=URI:https://www.wildernesslakecdd.org/calendar/2683616/hot-off-th
 e-press-food-truck
DTSTART:20211001T200000Z
DTEND:20211002T000000Z
END:VEVENT
END:VCALENDAR
