BEGIN:VCALENDAR
VERSION:2.0
PRODID:SchoolNow
CALSCALE:GREGORIAN
BEGIN:VEVENT
UID:f8cfbf16-02b2-11ec-b721-022547f589a1
DTSTAMP:20210821T190704Z
SUMMARY:HOA Meeting
LOCATION:Activities Center
URL;VALUE=URI:https://www.wildernesslakecdd.org/calendar/2683615/hoa-meetin
 g
DTSTART:20210928T223000Z
DTEND:20210929T010000Z
END:VEVENT
END:VCALENDAR
