BEGIN:VCALENDAR
VERSION:2.0
PRODID:SchoolNow
CALSCALE:GREGORIAN
BEGIN:VEVENT
UID:cf03d0f0-02b2-11ec-b2ef-022547f589a1
DTSTAMP:20210821T190554Z
SUMMARY:ARC Meeting
LOCATION:Activities Center
URL;VALUE=URI:https://www.wildernesslakecdd.org/calendar/2683614/arc-meetin
 g
DTSTART:20210927T223000Z
DTEND:20210928T000000Z
END:VEVENT
END:VCALENDAR
