BEGIN:VCALENDAR
VERSION:2.0
PRODID:SchoolNow
CALSCALE:GREGORIAN
BEGIN:VEVENT
UID:a9f29fc6-02b2-11ec-bbc0-022547f589a1
DTSTAMP:20210821T190452Z
SUMMARY:Movie Night
LOCATION:Theatre
URL;VALUE=URI:https://www.wildernesslakecdd.org/calendar/2683613/movie-nigh
 t
DTSTART:20210927T220000Z
DTEND:20210928T000000Z
END:VEVENT
END:VCALENDAR
