BEGIN:VCALENDAR
VERSION:2.0
PRODID:SchoolNow
CALSCALE:GREGORIAN
BEGIN:VEVENT
UID:6085a748-02b2-11ec-a2ee-022547f589a1
DTSTAMP:20210821T190248Z
SUMMARY:Story Time
LOCATION:Nature Center
URL;VALUE=URI:https://www.wildernesslakecdd.org/calendar/2683612/story-time
DTSTART:20210927T140000Z
DTEND:20210927T150000Z
END:VEVENT
END:VCALENDAR
