BEGIN:VCALENDAR
VERSION:2.0
PRODID:SchoolNow
CALSCALE:GREGORIAN
BEGIN:VEVENT
UID:1b621e6a-02af-11ec-ba06-0ab34f6fc819
DTSTAMP:20210821T183924Z
SUMMARY:Kid's Intro to Tennis
LOCATION:1st Tennis Court
URL;VALUE=URI:https://www.wildernesslakecdd.org/calendar/2683611/kids-intro
 -to-tennis
DTSTART:20210925T130000Z
DTEND:20210925T150000Z
END:VEVENT
END:VCALENDAR
