BEGIN:VCALENDAR
VERSION:2.0
PRODID:SchoolNow
CALSCALE:GREGORIAN
BEGIN:VEVENT
UID:f746cfb2-02ae-11ec-9755-0ab34f6fc819
DTSTAMP:20210821T183823Z
SUMMARY:Bean Bar Food Truck
LOCATION:Lodge Parking Lot
URL;VALUE=URI:https://www.wildernesslakecdd.org/calendar/2683610/bean-bar-f
 ood-truck
DTSTART:20210925T120000Z
DTEND:20210925T160000Z
END:VEVENT
END:VCALENDAR
