BEGIN:VCALENDAR
VERSION:2.0
PRODID:SchoolNow
CALSCALE:GREGORIAN
BEGIN:VEVENT
UID:b80094a0-02ae-11ec-b75a-0ab34f6fc819
DTSTAMP:20210821T183637Z
SUMMARY:Family Movie Night
LOCATION:Theatre
URL;VALUE=URI:https://www.wildernesslakecdd.org/calendar/2683609/family-mov
 ie-night
DTSTART:20210924T230000Z
DTEND:20210925T010000Z
END:VEVENT
END:VCALENDAR
